BEGIN:VCALENDAR
PRODID:-//eluceo/ical//2.0/EN
VERSION:2.0
CALSCALE:GREGORIAN
BEGIN:VEVENT
UID:1e22d03df6dc2450ebea9b6576e18069
DTSTAMP:20260420T131426Z
SUMMARY:EuCo Belgrade
DESCRIPTION:Website: https://euco2019.rs
URL:https://rotaractbelux.org/nl/agenda/show/36228
DTSTART;TZID=Europe/Zurich:20190501T000000
DTEND;TZID=Europe/Zurich:20190505T000000
LOCATION:Belgrade - Serbia
CATEGORIES:Rotaract
END:VEVENT
BEGIN:VTIMEZONE
TZID:Europe/Zurich
BEGIN:DAYLIGHT
DTSTART:20190501T000000
TZNAME:CEST
TZOFFSETTO:+0200
TZOFFSETFROM:+0200
END:DAYLIGHT
END:VTIMEZONE
END:VCALENDAR
