BEGIN:VCALENDAR
PRODID:-//eluceo/ical//2.0/EN
VERSION:2.0
CALSCALE:GREGORIAN
BEGIN:VEVENT
UID:9c90553becf4c3d97210907f7111f94c
DTSTAMP:20260420T091559Z
SUMMARY:District Weekend to Ireland
DESCRIPTION:This year\, the district weekend will take place in Ireland.\n\
 nOfficial registration will open in October
URL:https://rotaractbelux.org/nl/agenda/show/36340
DTSTART;TZID=Europe/Zurich:20200402T000000
DTEND;TZID=Europe/Zurich:20200406T000000
LOCATION:Ireland
CATEGORIES:Rotaract
END:VEVENT
BEGIN:VTIMEZONE
TZID:Europe/Zurich
BEGIN:DAYLIGHT
DTSTART:20200402T000000
TZNAME:CEST
TZOFFSETTO:+0200
TZOFFSETFROM:+0200
END:DAYLIGHT
END:VTIMEZONE
END:VCALENDAR
